BEGIN:VCALENDAR
VERSION:2.0
PRODID:-//Stadskamer - ECPv6.15.20//NONSGML v1.0//EN
CALSCALE:GREGORIAN
METHOD:PUBLISH
X-WR-CALNAME:Stadskamer
X-ORIGINAL-URL:https://www.stadskamer.com
X-WR-CALDESC:Evenementen voor Stadskamer
REFRESH-INTERVAL;VALUE=DURATION:PT1H
X-Robots-Tag:noindex
X-PUBLISHED-TTL:PT1H
BEGIN:VTIMEZONE
TZID:Europe/Amsterdam
BEGIN:DAYLIGHT
TZOFFSETFROM:+0100
TZOFFSETTO:+0200
TZNAME:CEST
DTSTART:20250330T010000
END:DAYLIGHT
BEGIN:STANDARD
TZOFFSETFROM:+0200
TZOFFSETTO:+0100
TZNAME:CET
DTSTART:20251026T010000
END:STANDARD
BEGIN:DAYLIGHT
TZOFFSETFROM:+0100
TZOFFSETTO:+0200
TZNAME:CEST
DTSTART:20260329T010000
END:DAYLIGHT
BEGIN:STANDARD
TZOFFSETFROM:+0200
TZOFFSETTO:+0100
TZNAME:CET
DTSTART:20261025T010000
END:STANDARD
BEGIN:DAYLIGHT
TZOFFSETFROM:+0100
TZOFFSETTO:+0200
TZNAME:CEST
DTSTART:20270328T010000
END:DAYLIGHT
BEGIN:STANDARD
TZOFFSETFROM:+0200
TZOFFSETTO:+0100
TZNAME:CET
DTSTART:20271031T010000
END:STANDARD
END:VTIMEZONE
BEGIN:VEVENT
DTSTART;TZID=Europe/Amsterdam:20260427T090000
DTEND;TZID=Europe/Amsterdam:20260427T120000
DTSTAMP:20260424T124904
CREATED:20251223T135010Z
LAST-MODIFIED:20251223T135941Z
UID:10000035-1777280400-1777291200@www.stadskamer.com
SUMMARY:Inloop 's-Heerenberg
DESCRIPTION:De inloop in ‘s-Heerenberg is wekelijks geopend voor iedereen die behoefte heeft aan een gezellig samenzijn\, ontmoetingen en/of activiteiten. \nGeopend op: \n\nma. 9.00 -12.00\ndi. 12.00 – 15.00\ndo. 9.00 – 12.00
URL:https://www.stadskamer.com/activiteit/inloop-s-heerenberg/2026-04-27/
LOCATION:‘t Bargse Huus\, ‘s-Heerenberg\, Willem van den Berghstraat 1\, ‘s-Heerenberg\, Gelderland\, 7041 CW\, Netherlands
ATTACH;FMTTYPE=image/jpeg:https://www.stadskamer.com/wp-content/uploads/2023/05/Stadskamer-_s-Heerenberg-34.jpg
ORGANIZER;CN="Simone Pastoors":MAILTO:s.pastoors@stadskamer.com
END:VEVENT
BEGIN:VEVENT
DTSTART;TZID=Europe/Amsterdam:20260427T100000
DTEND;TZID=Europe/Amsterdam:20260427T110000
DTSTAMP:20260424T124904
CREATED:20260108T133110Z
LAST-MODIFIED:20260108T134043Z
UID:10001334-1777284000-1777287600@www.stadskamer.com
SUMMARY:'s-Heerenbergse wandelgroep met ervaringsdeskundige
DESCRIPTION:Elke maandag en donderdag om 10.00 uur gaat er een groep het bos in om een ontspannen wandeling te maken. Je kunt kiezen uit een lange route van 1 uur of max 30 minuten.
URL:https://www.stadskamer.com/activiteit/wandelgroep-met-ervaringsdeskundige/2026-04-27/
LOCATION:‘t Bargse Huus\, ‘s-Heerenberg\, Willem van den Berghstraat 1\, ‘s-Heerenberg\, Gelderland\, 7041 CW\, Netherlands
ATTACH;FMTTYPE=image/jpeg:https://www.stadskamer.com/wp-content/uploads/2023/06/Stadskamer-s-Heerenberg-17.jpg
ORGANIZER;CN="Simone Pastoors":MAILTO:s.pastoors@stadskamer.com
END:VEVENT
BEGIN:VEVENT
DTSTART;TZID=Europe/Amsterdam:20260428T120000
DTEND;TZID=Europe/Amsterdam:20260428T150000
DTSTAMP:20260424T124904
CREATED:20251223T140416Z
LAST-MODIFIED:20251223T143741Z
UID:10000538-1777377600-1777388400@www.stadskamer.com
SUMMARY:Inloop 's-Heerenberg
DESCRIPTION:De inloop in ‘s-Heerenberg is wekelijks geopend voor iedereen die behoefte heeft aan een gezellig samenzijn\, ontmoetingen en/of activiteiten. \nGeopend op: \n\nma. 9.00 -12.00\ndi. 12.00 – 15.00\ndo. 9.00 – 12.00
URL:https://www.stadskamer.com/activiteit/inloop-s-heerenberg-dinsdag/2026-04-28/
LOCATION:‘t Bargse Huus\, ‘s-Heerenberg\, Willem van den Berghstraat 1\, ‘s-Heerenberg\, Gelderland\, 7041 CW\, Netherlands
ATTACH;FMTTYPE=image/jpeg:https://www.stadskamer.com/wp-content/uploads/2023/04/Stadskamer-s-Heerenberg-38.jpg
ORGANIZER;CN="Simone Pastoors":MAILTO:s.pastoors@stadskamer.com
END:VEVENT
BEGIN:VEVENT
DTSTART;TZID=Europe/Amsterdam:20260428T190000
DTEND;TZID=Europe/Amsterdam:20260428T203000
DTSTAMP:20260424T124904
CREATED:20260210T090752Z
LAST-MODIFIED:20260216T204459Z
UID:10007483-1777402800-1777408200@www.stadskamer.com
SUMMARY:Verslavingsgroep 's-Heerenberg
DESCRIPTION:Heb jij in je leven te maken gehad of nog met een verslaving. Wil jij in contact komen met anderen om het erover te hebben? Herkenning\, veiligheid en samen groeien staan centraal. Sluit je aan bij onze ervaringsgroep\, heb je vragen neem contact op met Thea Hankel. \n 
URL:https://www.stadskamer.com/activiteit/verslavingsgroep/2026-04-28/
LOCATION:‘t Bargse Huus\, ‘s-Heerenberg\, Willem van den Berghstraat 1\, ‘s-Heerenberg\, Gelderland\, 7041 CW\, Netherlands
ORGANIZER;CN="Thea Hankel":MAILTO:t.hankel@stadskamer.com
END:VEVENT
BEGIN:VEVENT
DTSTART;TZID=Europe/Amsterdam:20260430T090000
DTEND;TZID=Europe/Amsterdam:20260430T120000
DTSTAMP:20260424T124904
CREATED:20251223T135010Z
LAST-MODIFIED:20251223T135941Z
UID:10000036-1777539600-1777550400@www.stadskamer.com
SUMMARY:Inloop 's-Heerenberg
DESCRIPTION:De inloop in ‘s-Heerenberg is wekelijks geopend voor iedereen die behoefte heeft aan een gezellig samenzijn\, ontmoetingen en/of activiteiten. \nGeopend op: \n\nma. 9.00 -12.00\ndi. 12.00 – 15.00\ndo. 9.00 – 12.00
URL:https://www.stadskamer.com/activiteit/inloop-s-heerenberg/2026-04-30/
LOCATION:‘t Bargse Huus\, ‘s-Heerenberg\, Willem van den Berghstraat 1\, ‘s-Heerenberg\, Gelderland\, 7041 CW\, Netherlands
ATTACH;FMTTYPE=image/jpeg:https://www.stadskamer.com/wp-content/uploads/2023/05/Stadskamer-_s-Heerenberg-34.jpg
ORGANIZER;CN="Simone Pastoors":MAILTO:s.pastoors@stadskamer.com
END:VEVENT
BEGIN:VEVENT
DTSTART;TZID=Europe/Amsterdam:20260430T100000
DTEND;TZID=Europe/Amsterdam:20260430T110000
DTSTAMP:20260424T124904
CREATED:20260108T133110Z
LAST-MODIFIED:20260108T134043Z
UID:10001335-1777543200-1777546800@www.stadskamer.com
SUMMARY:'s-Heerenbergse wandelgroep met ervaringsdeskundige
DESCRIPTION:Elke maandag en donderdag om 10.00 uur gaat er een groep het bos in om een ontspannen wandeling te maken. Je kunt kiezen uit een lange route van 1 uur of max 30 minuten.
URL:https://www.stadskamer.com/activiteit/wandelgroep-met-ervaringsdeskundige/2026-04-30/
LOCATION:‘t Bargse Huus\, ‘s-Heerenberg\, Willem van den Berghstraat 1\, ‘s-Heerenberg\, Gelderland\, 7041 CW\, Netherlands
ATTACH;FMTTYPE=image/jpeg:https://www.stadskamer.com/wp-content/uploads/2023/06/Stadskamer-s-Heerenberg-17.jpg
ORGANIZER;CN="Simone Pastoors":MAILTO:s.pastoors@stadskamer.com
END:VEVENT
BEGIN:VEVENT
DTSTART;TZID=Europe/Amsterdam:20260504T090000
DTEND;TZID=Europe/Amsterdam:20260504T120000
DTSTAMP:20260424T124905
CREATED:20251223T135010Z
LAST-MODIFIED:20251223T135941Z
UID:10000037-1777885200-1777896000@www.stadskamer.com
SUMMARY:Inloop 's-Heerenberg
DESCRIPTION:De inloop in ‘s-Heerenberg is wekelijks geopend voor iedereen die behoefte heeft aan een gezellig samenzijn\, ontmoetingen en/of activiteiten. \nGeopend op: \n\nma. 9.00 -12.00\ndi. 12.00 – 15.00\ndo. 9.00 – 12.00
URL:https://www.stadskamer.com/activiteit/inloop-s-heerenberg/2026-05-04/
LOCATION:‘t Bargse Huus\, ‘s-Heerenberg\, Willem van den Berghstraat 1\, ‘s-Heerenberg\, Gelderland\, 7041 CW\, Netherlands
ATTACH;FMTTYPE=image/jpeg:https://www.stadskamer.com/wp-content/uploads/2023/05/Stadskamer-_s-Heerenberg-34.jpg
ORGANIZER;CN="Simone Pastoors":MAILTO:s.pastoors@stadskamer.com
END:VEVENT
BEGIN:VEVENT
DTSTART;TZID=Europe/Amsterdam:20260504T100000
DTEND;TZID=Europe/Amsterdam:20260504T110000
DTSTAMP:20260424T124905
CREATED:20260108T133110Z
LAST-MODIFIED:20260108T134043Z
UID:10001336-1777888800-1777892400@www.stadskamer.com
SUMMARY:'s-Heerenbergse wandelgroep met ervaringsdeskundige
DESCRIPTION:Elke maandag en donderdag om 10.00 uur gaat er een groep het bos in om een ontspannen wandeling te maken. Je kunt kiezen uit een lange route van 1 uur of max 30 minuten.
URL:https://www.stadskamer.com/activiteit/wandelgroep-met-ervaringsdeskundige/2026-05-04/
LOCATION:‘t Bargse Huus\, ‘s-Heerenberg\, Willem van den Berghstraat 1\, ‘s-Heerenberg\, Gelderland\, 7041 CW\, Netherlands
ATTACH;FMTTYPE=image/jpeg:https://www.stadskamer.com/wp-content/uploads/2023/06/Stadskamer-s-Heerenberg-17.jpg
ORGANIZER;CN="Simone Pastoors":MAILTO:s.pastoors@stadskamer.com
END:VEVENT
BEGIN:VEVENT
DTSTART;TZID=Europe/Amsterdam:20260505T120000
DTEND;TZID=Europe/Amsterdam:20260505T150000
DTSTAMP:20260424T124905
CREATED:20251223T140416Z
LAST-MODIFIED:20251223T143741Z
UID:10000539-1777982400-1777993200@www.stadskamer.com
SUMMARY:Inloop 's-Heerenberg
DESCRIPTION:De inloop in ‘s-Heerenberg is wekelijks geopend voor iedereen die behoefte heeft aan een gezellig samenzijn\, ontmoetingen en/of activiteiten. \nGeopend op: \n\nma. 9.00 -12.00\ndi. 12.00 – 15.00\ndo. 9.00 – 12.00
URL:https://www.stadskamer.com/activiteit/inloop-s-heerenberg-dinsdag/2026-05-05/
LOCATION:‘t Bargse Huus\, ‘s-Heerenberg\, Willem van den Berghstraat 1\, ‘s-Heerenberg\, Gelderland\, 7041 CW\, Netherlands
ATTACH;FMTTYPE=image/jpeg:https://www.stadskamer.com/wp-content/uploads/2023/04/Stadskamer-s-Heerenberg-38.jpg
ORGANIZER;CN="Simone Pastoors":MAILTO:s.pastoors@stadskamer.com
END:VEVENT
BEGIN:VEVENT
DTSTART;TZID=Europe/Amsterdam:20260505T190000
DTEND;TZID=Europe/Amsterdam:20260505T203000
DTSTAMP:20260424T124905
CREATED:20260210T090752Z
LAST-MODIFIED:20260216T204459Z
UID:10007484-1778007600-1778013000@www.stadskamer.com
SUMMARY:Verslavingsgroep 's-Heerenberg
DESCRIPTION:Heb jij in je leven te maken gehad of nog met een verslaving. Wil jij in contact komen met anderen om het erover te hebben? Herkenning\, veiligheid en samen groeien staan centraal. Sluit je aan bij onze ervaringsgroep\, heb je vragen neem contact op met Thea Hankel. \n 
URL:https://www.stadskamer.com/activiteit/verslavingsgroep/2026-05-05/
LOCATION:‘t Bargse Huus\, ‘s-Heerenberg\, Willem van den Berghstraat 1\, ‘s-Heerenberg\, Gelderland\, 7041 CW\, Netherlands
ORGANIZER;CN="Thea Hankel":MAILTO:t.hankel@stadskamer.com
END:VEVENT
BEGIN:VEVENT
DTSTART;TZID=Europe/Amsterdam:20260507T090000
DTEND;TZID=Europe/Amsterdam:20260507T120000
DTSTAMP:20260424T124905
CREATED:20251223T135010Z
LAST-MODIFIED:20251223T135941Z
UID:10000038-1778144400-1778155200@www.stadskamer.com
SUMMARY:Inloop 's-Heerenberg
DESCRIPTION:De inloop in ‘s-Heerenberg is wekelijks geopend voor iedereen die behoefte heeft aan een gezellig samenzijn\, ontmoetingen en/of activiteiten. \nGeopend op: \n\nma. 9.00 -12.00\ndi. 12.00 – 15.00\ndo. 9.00 – 12.00
URL:https://www.stadskamer.com/activiteit/inloop-s-heerenberg/2026-05-07/
LOCATION:‘t Bargse Huus\, ‘s-Heerenberg\, Willem van den Berghstraat 1\, ‘s-Heerenberg\, Gelderland\, 7041 CW\, Netherlands
ATTACH;FMTTYPE=image/jpeg:https://www.stadskamer.com/wp-content/uploads/2023/05/Stadskamer-_s-Heerenberg-34.jpg
ORGANIZER;CN="Simone Pastoors":MAILTO:s.pastoors@stadskamer.com
END:VEVENT
BEGIN:VEVENT
DTSTART;TZID=Europe/Amsterdam:20260507T100000
DTEND;TZID=Europe/Amsterdam:20260507T110000
DTSTAMP:20260424T124905
CREATED:20260108T133110Z
LAST-MODIFIED:20260108T134043Z
UID:10001337-1778148000-1778151600@www.stadskamer.com
SUMMARY:'s-Heerenbergse wandelgroep met ervaringsdeskundige
DESCRIPTION:Elke maandag en donderdag om 10.00 uur gaat er een groep het bos in om een ontspannen wandeling te maken. Je kunt kiezen uit een lange route van 1 uur of max 30 minuten.
URL:https://www.stadskamer.com/activiteit/wandelgroep-met-ervaringsdeskundige/2026-05-07/
LOCATION:‘t Bargse Huus\, ‘s-Heerenberg\, Willem van den Berghstraat 1\, ‘s-Heerenberg\, Gelderland\, 7041 CW\, Netherlands
ATTACH;FMTTYPE=image/jpeg:https://www.stadskamer.com/wp-content/uploads/2023/06/Stadskamer-s-Heerenberg-17.jpg
ORGANIZER;CN="Simone Pastoors":MAILTO:s.pastoors@stadskamer.com
END:VEVENT
BEGIN:VEVENT
DTSTART;TZID=Europe/Amsterdam:20260511T090000
DTEND;TZID=Europe/Amsterdam:20260511T120000
DTSTAMP:20260424T124905
CREATED:20251223T135010Z
LAST-MODIFIED:20251223T135941Z
UID:10000039-1778490000-1778500800@www.stadskamer.com
SUMMARY:Inloop 's-Heerenberg
DESCRIPTION:De inloop in ‘s-Heerenberg is wekelijks geopend voor iedereen die behoefte heeft aan een gezellig samenzijn\, ontmoetingen en/of activiteiten. \nGeopend op: \n\nma. 9.00 -12.00\ndi. 12.00 – 15.00\ndo. 9.00 – 12.00
URL:https://www.stadskamer.com/activiteit/inloop-s-heerenberg/2026-05-11/
LOCATION:‘t Bargse Huus\, ‘s-Heerenberg\, Willem van den Berghstraat 1\, ‘s-Heerenberg\, Gelderland\, 7041 CW\, Netherlands
ATTACH;FMTTYPE=image/jpeg:https://www.stadskamer.com/wp-content/uploads/2023/05/Stadskamer-_s-Heerenberg-34.jpg
ORGANIZER;CN="Simone Pastoors":MAILTO:s.pastoors@stadskamer.com
END:VEVENT
BEGIN:VEVENT
DTSTART;TZID=Europe/Amsterdam:20260511T100000
DTEND;TZID=Europe/Amsterdam:20260511T110000
DTSTAMP:20260424T124905
CREATED:20260108T133110Z
LAST-MODIFIED:20260108T134043Z
UID:10001338-1778493600-1778497200@www.stadskamer.com
SUMMARY:'s-Heerenbergse wandelgroep met ervaringsdeskundige
DESCRIPTION:Elke maandag en donderdag om 10.00 uur gaat er een groep het bos in om een ontspannen wandeling te maken. Je kunt kiezen uit een lange route van 1 uur of max 30 minuten.
URL:https://www.stadskamer.com/activiteit/wandelgroep-met-ervaringsdeskundige/2026-05-11/
LOCATION:‘t Bargse Huus\, ‘s-Heerenberg\, Willem van den Berghstraat 1\, ‘s-Heerenberg\, Gelderland\, 7041 CW\, Netherlands
ATTACH;FMTTYPE=image/jpeg:https://www.stadskamer.com/wp-content/uploads/2023/06/Stadskamer-s-Heerenberg-17.jpg
ORGANIZER;CN="Simone Pastoors":MAILTO:s.pastoors@stadskamer.com
END:VEVENT
BEGIN:VEVENT
DTSTART;TZID=Europe/Amsterdam:20260512T120000
DTEND;TZID=Europe/Amsterdam:20260512T150000
DTSTAMP:20260424T124905
CREATED:20251223T140416Z
LAST-MODIFIED:20251223T143741Z
UID:10000540-1778587200-1778598000@www.stadskamer.com
SUMMARY:Inloop 's-Heerenberg
DESCRIPTION:De inloop in ‘s-Heerenberg is wekelijks geopend voor iedereen die behoefte heeft aan een gezellig samenzijn\, ontmoetingen en/of activiteiten. \nGeopend op: \n\nma. 9.00 -12.00\ndi. 12.00 – 15.00\ndo. 9.00 – 12.00
URL:https://www.stadskamer.com/activiteit/inloop-s-heerenberg-dinsdag/2026-05-12/
LOCATION:‘t Bargse Huus\, ‘s-Heerenberg\, Willem van den Berghstraat 1\, ‘s-Heerenberg\, Gelderland\, 7041 CW\, Netherlands
ATTACH;FMTTYPE=image/jpeg:https://www.stadskamer.com/wp-content/uploads/2023/04/Stadskamer-s-Heerenberg-38.jpg
ORGANIZER;CN="Simone Pastoors":MAILTO:s.pastoors@stadskamer.com
END:VEVENT
BEGIN:VEVENT
DTSTART;TZID=Europe/Amsterdam:20260512T190000
DTEND;TZID=Europe/Amsterdam:20260512T203000
DTSTAMP:20260424T124905
CREATED:20260210T090752Z
LAST-MODIFIED:20260216T204459Z
UID:10007485-1778612400-1778617800@www.stadskamer.com
SUMMARY:Verslavingsgroep 's-Heerenberg
DESCRIPTION:Heb jij in je leven te maken gehad of nog met een verslaving. Wil jij in contact komen met anderen om het erover te hebben? Herkenning\, veiligheid en samen groeien staan centraal. Sluit je aan bij onze ervaringsgroep\, heb je vragen neem contact op met Thea Hankel. \n 
URL:https://www.stadskamer.com/activiteit/verslavingsgroep/2026-05-12/
LOCATION:‘t Bargse Huus\, ‘s-Heerenberg\, Willem van den Berghstraat 1\, ‘s-Heerenberg\, Gelderland\, 7041 CW\, Netherlands
ORGANIZER;CN="Thea Hankel":MAILTO:t.hankel@stadskamer.com
END:VEVENT
BEGIN:VEVENT
DTSTART;TZID=Europe/Amsterdam:20260514T090000
DTEND;TZID=Europe/Amsterdam:20260514T120000
DTSTAMP:20260424T124905
CREATED:20251223T135010Z
LAST-MODIFIED:20251223T135941Z
UID:10000040-1778749200-1778760000@www.stadskamer.com
SUMMARY:Inloop 's-Heerenberg
DESCRIPTION:De inloop in ‘s-Heerenberg is wekelijks geopend voor iedereen die behoefte heeft aan een gezellig samenzijn\, ontmoetingen en/of activiteiten. \nGeopend op: \n\nma. 9.00 -12.00\ndi. 12.00 – 15.00\ndo. 9.00 – 12.00
URL:https://www.stadskamer.com/activiteit/inloop-s-heerenberg/2026-05-14/
LOCATION:‘t Bargse Huus\, ‘s-Heerenberg\, Willem van den Berghstraat 1\, ‘s-Heerenberg\, Gelderland\, 7041 CW\, Netherlands
ATTACH;FMTTYPE=image/jpeg:https://www.stadskamer.com/wp-content/uploads/2023/05/Stadskamer-_s-Heerenberg-34.jpg
ORGANIZER;CN="Simone Pastoors":MAILTO:s.pastoors@stadskamer.com
END:VEVENT
BEGIN:VEVENT
DTSTART;TZID=Europe/Amsterdam:20260514T100000
DTEND;TZID=Europe/Amsterdam:20260514T110000
DTSTAMP:20260424T124905
CREATED:20260108T133110Z
LAST-MODIFIED:20260108T134043Z
UID:10001339-1778752800-1778756400@www.stadskamer.com
SUMMARY:'s-Heerenbergse wandelgroep met ervaringsdeskundige
DESCRIPTION:Elke maandag en donderdag om 10.00 uur gaat er een groep het bos in om een ontspannen wandeling te maken. Je kunt kiezen uit een lange route van 1 uur of max 30 minuten.
URL:https://www.stadskamer.com/activiteit/wandelgroep-met-ervaringsdeskundige/2026-05-14/
LOCATION:‘t Bargse Huus\, ‘s-Heerenberg\, Willem van den Berghstraat 1\, ‘s-Heerenberg\, Gelderland\, 7041 CW\, Netherlands
ATTACH;FMTTYPE=image/jpeg:https://www.stadskamer.com/wp-content/uploads/2023/06/Stadskamer-s-Heerenberg-17.jpg
ORGANIZER;CN="Simone Pastoors":MAILTO:s.pastoors@stadskamer.com
END:VEVENT
BEGIN:VEVENT
DTSTART;TZID=Europe/Amsterdam:20260518T090000
DTEND;TZID=Europe/Amsterdam:20260518T120000
DTSTAMP:20260424T124905
CREATED:20251223T135010Z
LAST-MODIFIED:20251223T135941Z
UID:10000041-1779094800-1779105600@www.stadskamer.com
SUMMARY:Inloop 's-Heerenberg
DESCRIPTION:De inloop in ‘s-Heerenberg is wekelijks geopend voor iedereen die behoefte heeft aan een gezellig samenzijn\, ontmoetingen en/of activiteiten. \nGeopend op: \n\nma. 9.00 -12.00\ndi. 12.00 – 15.00\ndo. 9.00 – 12.00
URL:https://www.stadskamer.com/activiteit/inloop-s-heerenberg/2026-05-18/
LOCATION:‘t Bargse Huus\, ‘s-Heerenberg\, Willem van den Berghstraat 1\, ‘s-Heerenberg\, Gelderland\, 7041 CW\, Netherlands
ATTACH;FMTTYPE=image/jpeg:https://www.stadskamer.com/wp-content/uploads/2023/05/Stadskamer-_s-Heerenberg-34.jpg
ORGANIZER;CN="Simone Pastoors":MAILTO:s.pastoors@stadskamer.com
END:VEVENT
BEGIN:VEVENT
DTSTART;TZID=Europe/Amsterdam:20260518T100000
DTEND;TZID=Europe/Amsterdam:20260518T110000
DTSTAMP:20260424T124905
CREATED:20260108T133110Z
LAST-MODIFIED:20260108T134043Z
UID:10001340-1779098400-1779102000@www.stadskamer.com
SUMMARY:'s-Heerenbergse wandelgroep met ervaringsdeskundige
DESCRIPTION:Elke maandag en donderdag om 10.00 uur gaat er een groep het bos in om een ontspannen wandeling te maken. Je kunt kiezen uit een lange route van 1 uur of max 30 minuten.
URL:https://www.stadskamer.com/activiteit/wandelgroep-met-ervaringsdeskundige/2026-05-18/
LOCATION:‘t Bargse Huus\, ‘s-Heerenberg\, Willem van den Berghstraat 1\, ‘s-Heerenberg\, Gelderland\, 7041 CW\, Netherlands
ATTACH;FMTTYPE=image/jpeg:https://www.stadskamer.com/wp-content/uploads/2023/06/Stadskamer-s-Heerenberg-17.jpg
ORGANIZER;CN="Simone Pastoors":MAILTO:s.pastoors@stadskamer.com
END:VEVENT
BEGIN:VEVENT
DTSTART;TZID=Europe/Amsterdam:20260519T120000
DTEND;TZID=Europe/Amsterdam:20260519T150000
DTSTAMP:20260424T124905
CREATED:20251223T140416Z
LAST-MODIFIED:20251223T143741Z
UID:10000541-1779192000-1779202800@www.stadskamer.com
SUMMARY:Inloop 's-Heerenberg
DESCRIPTION:De inloop in ‘s-Heerenberg is wekelijks geopend voor iedereen die behoefte heeft aan een gezellig samenzijn\, ontmoetingen en/of activiteiten. \nGeopend op: \n\nma. 9.00 -12.00\ndi. 12.00 – 15.00\ndo. 9.00 – 12.00
URL:https://www.stadskamer.com/activiteit/inloop-s-heerenberg-dinsdag/2026-05-19/
LOCATION:‘t Bargse Huus\, ‘s-Heerenberg\, Willem van den Berghstraat 1\, ‘s-Heerenberg\, Gelderland\, 7041 CW\, Netherlands
ATTACH;FMTTYPE=image/jpeg:https://www.stadskamer.com/wp-content/uploads/2023/04/Stadskamer-s-Heerenberg-38.jpg
ORGANIZER;CN="Simone Pastoors":MAILTO:s.pastoors@stadskamer.com
END:VEVENT
BEGIN:VEVENT
DTSTART;TZID=Europe/Amsterdam:20260519T190000
DTEND;TZID=Europe/Amsterdam:20260519T203000
DTSTAMP:20260424T124905
CREATED:20260210T090752Z
LAST-MODIFIED:20260216T204459Z
UID:10007486-1779217200-1779222600@www.stadskamer.com
SUMMARY:Verslavingsgroep 's-Heerenberg
DESCRIPTION:Heb jij in je leven te maken gehad of nog met een verslaving. Wil jij in contact komen met anderen om het erover te hebben? Herkenning\, veiligheid en samen groeien staan centraal. Sluit je aan bij onze ervaringsgroep\, heb je vragen neem contact op met Thea Hankel. \n 
URL:https://www.stadskamer.com/activiteit/verslavingsgroep/2026-05-19/
LOCATION:‘t Bargse Huus\, ‘s-Heerenberg\, Willem van den Berghstraat 1\, ‘s-Heerenberg\, Gelderland\, 7041 CW\, Netherlands
ORGANIZER;CN="Thea Hankel":MAILTO:t.hankel@stadskamer.com
END:VEVENT
BEGIN:VEVENT
DTSTART;TZID=Europe/Amsterdam:20260521T090000
DTEND;TZID=Europe/Amsterdam:20260521T120000
DTSTAMP:20260424T124905
CREATED:20251223T135010Z
LAST-MODIFIED:20251223T135941Z
UID:10000042-1779354000-1779364800@www.stadskamer.com
SUMMARY:Inloop 's-Heerenberg
DESCRIPTION:De inloop in ‘s-Heerenberg is wekelijks geopend voor iedereen die behoefte heeft aan een gezellig samenzijn\, ontmoetingen en/of activiteiten. \nGeopend op: \n\nma. 9.00 -12.00\ndi. 12.00 – 15.00\ndo. 9.00 – 12.00
URL:https://www.stadskamer.com/activiteit/inloop-s-heerenberg/2026-05-21/
LOCATION:‘t Bargse Huus\, ‘s-Heerenberg\, Willem van den Berghstraat 1\, ‘s-Heerenberg\, Gelderland\, 7041 CW\, Netherlands
ATTACH;FMTTYPE=image/jpeg:https://www.stadskamer.com/wp-content/uploads/2023/05/Stadskamer-_s-Heerenberg-34.jpg
ORGANIZER;CN="Simone Pastoors":MAILTO:s.pastoors@stadskamer.com
END:VEVENT
BEGIN:VEVENT
DTSTART;TZID=Europe/Amsterdam:20260521T100000
DTEND;TZID=Europe/Amsterdam:20260521T110000
DTSTAMP:20260424T124905
CREATED:20260108T133110Z
LAST-MODIFIED:20260108T134043Z
UID:10001341-1779357600-1779361200@www.stadskamer.com
SUMMARY:'s-Heerenbergse wandelgroep met ervaringsdeskundige
DESCRIPTION:Elke maandag en donderdag om 10.00 uur gaat er een groep het bos in om een ontspannen wandeling te maken. Je kunt kiezen uit een lange route van 1 uur of max 30 minuten.
URL:https://www.stadskamer.com/activiteit/wandelgroep-met-ervaringsdeskundige/2026-05-21/
LOCATION:‘t Bargse Huus\, ‘s-Heerenberg\, Willem van den Berghstraat 1\, ‘s-Heerenberg\, Gelderland\, 7041 CW\, Netherlands
ATTACH;FMTTYPE=image/jpeg:https://www.stadskamer.com/wp-content/uploads/2023/06/Stadskamer-s-Heerenberg-17.jpg
ORGANIZER;CN="Simone Pastoors":MAILTO:s.pastoors@stadskamer.com
END:VEVENT
BEGIN:VEVENT
DTSTART;TZID=Europe/Amsterdam:20260525T090000
DTEND;TZID=Europe/Amsterdam:20260525T120000
DTSTAMP:20260424T124905
CREATED:20251223T135010Z
LAST-MODIFIED:20251223T135941Z
UID:10000043-1779699600-1779710400@www.stadskamer.com
SUMMARY:Inloop 's-Heerenberg
DESCRIPTION:De inloop in ‘s-Heerenberg is wekelijks geopend voor iedereen die behoefte heeft aan een gezellig samenzijn\, ontmoetingen en/of activiteiten. \nGeopend op: \n\nma. 9.00 -12.00\ndi. 12.00 – 15.00\ndo. 9.00 – 12.00
URL:https://www.stadskamer.com/activiteit/inloop-s-heerenberg/2026-05-25/
LOCATION:‘t Bargse Huus\, ‘s-Heerenberg\, Willem van den Berghstraat 1\, ‘s-Heerenberg\, Gelderland\, 7041 CW\, Netherlands
ATTACH;FMTTYPE=image/jpeg:https://www.stadskamer.com/wp-content/uploads/2023/05/Stadskamer-_s-Heerenberg-34.jpg
ORGANIZER;CN="Simone Pastoors":MAILTO:s.pastoors@stadskamer.com
END:VEVENT
BEGIN:VEVENT
DTSTART;TZID=Europe/Amsterdam:20260525T100000
DTEND;TZID=Europe/Amsterdam:20260525T110000
DTSTAMP:20260424T124905
CREATED:20260108T133110Z
LAST-MODIFIED:20260108T134043Z
UID:10001342-1779703200-1779706800@www.stadskamer.com
SUMMARY:'s-Heerenbergse wandelgroep met ervaringsdeskundige
DESCRIPTION:Elke maandag en donderdag om 10.00 uur gaat er een groep het bos in om een ontspannen wandeling te maken. Je kunt kiezen uit een lange route van 1 uur of max 30 minuten.
URL:https://www.stadskamer.com/activiteit/wandelgroep-met-ervaringsdeskundige/2026-05-25/
LOCATION:‘t Bargse Huus\, ‘s-Heerenberg\, Willem van den Berghstraat 1\, ‘s-Heerenberg\, Gelderland\, 7041 CW\, Netherlands
ATTACH;FMTTYPE=image/jpeg:https://www.stadskamer.com/wp-content/uploads/2023/06/Stadskamer-s-Heerenberg-17.jpg
ORGANIZER;CN="Simone Pastoors":MAILTO:s.pastoors@stadskamer.com
END:VEVENT
BEGIN:VEVENT
DTSTART;TZID=Europe/Amsterdam:20260526T120000
DTEND;TZID=Europe/Amsterdam:20260526T150000
DTSTAMP:20260424T124905
CREATED:20251223T140416Z
LAST-MODIFIED:20251223T143741Z
UID:10000542-1779796800-1779807600@www.stadskamer.com
SUMMARY:Inloop 's-Heerenberg
DESCRIPTION:De inloop in ‘s-Heerenberg is wekelijks geopend voor iedereen die behoefte heeft aan een gezellig samenzijn\, ontmoetingen en/of activiteiten. \nGeopend op: \n\nma. 9.00 -12.00\ndi. 12.00 – 15.00\ndo. 9.00 – 12.00
URL:https://www.stadskamer.com/activiteit/inloop-s-heerenberg-dinsdag/2026-05-26/
LOCATION:‘t Bargse Huus\, ‘s-Heerenberg\, Willem van den Berghstraat 1\, ‘s-Heerenberg\, Gelderland\, 7041 CW\, Netherlands
ATTACH;FMTTYPE=image/jpeg:https://www.stadskamer.com/wp-content/uploads/2023/04/Stadskamer-s-Heerenberg-38.jpg
ORGANIZER;CN="Simone Pastoors":MAILTO:s.pastoors@stadskamer.com
END:VEVENT
BEGIN:VEVENT
DTSTART;TZID=Europe/Amsterdam:20260526T190000
DTEND;TZID=Europe/Amsterdam:20260526T203000
DTSTAMP:20260424T124905
CREATED:20260210T090752Z
LAST-MODIFIED:20260216T204459Z
UID:10007487-1779822000-1779827400@www.stadskamer.com
SUMMARY:Verslavingsgroep 's-Heerenberg
DESCRIPTION:Heb jij in je leven te maken gehad of nog met een verslaving. Wil jij in contact komen met anderen om het erover te hebben? Herkenning\, veiligheid en samen groeien staan centraal. Sluit je aan bij onze ervaringsgroep\, heb je vragen neem contact op met Thea Hankel. \n 
URL:https://www.stadskamer.com/activiteit/verslavingsgroep/2026-05-26/
LOCATION:‘t Bargse Huus\, ‘s-Heerenberg\, Willem van den Berghstraat 1\, ‘s-Heerenberg\, Gelderland\, 7041 CW\, Netherlands
ORGANIZER;CN="Thea Hankel":MAILTO:t.hankel@stadskamer.com
END:VEVENT
BEGIN:VEVENT
DTSTART;TZID=Europe/Amsterdam:20260528T090000
DTEND;TZID=Europe/Amsterdam:20260528T120000
DTSTAMP:20260424T124905
CREATED:20251223T135010Z
LAST-MODIFIED:20251223T135941Z
UID:10000044-1779958800-1779969600@www.stadskamer.com
SUMMARY:Inloop 's-Heerenberg
DESCRIPTION:De inloop in ‘s-Heerenberg is wekelijks geopend voor iedereen die behoefte heeft aan een gezellig samenzijn\, ontmoetingen en/of activiteiten. \nGeopend op: \n\nma. 9.00 -12.00\ndi. 12.00 – 15.00\ndo. 9.00 – 12.00
URL:https://www.stadskamer.com/activiteit/inloop-s-heerenberg/2026-05-28/
LOCATION:‘t Bargse Huus\, ‘s-Heerenberg\, Willem van den Berghstraat 1\, ‘s-Heerenberg\, Gelderland\, 7041 CW\, Netherlands
ATTACH;FMTTYPE=image/jpeg:https://www.stadskamer.com/wp-content/uploads/2023/05/Stadskamer-_s-Heerenberg-34.jpg
ORGANIZER;CN="Simone Pastoors":MAILTO:s.pastoors@stadskamer.com
END:VEVENT
BEGIN:VEVENT
DTSTART;TZID=Europe/Amsterdam:20260528T100000
DTEND;TZID=Europe/Amsterdam:20260528T110000
DTSTAMP:20260424T124905
CREATED:20260108T133110Z
LAST-MODIFIED:20260108T134043Z
UID:10001343-1779962400-1779966000@www.stadskamer.com
SUMMARY:'s-Heerenbergse wandelgroep met ervaringsdeskundige
DESCRIPTION:Elke maandag en donderdag om 10.00 uur gaat er een groep het bos in om een ontspannen wandeling te maken. Je kunt kiezen uit een lange route van 1 uur of max 30 minuten.
URL:https://www.stadskamer.com/activiteit/wandelgroep-met-ervaringsdeskundige/2026-05-28/
LOCATION:‘t Bargse Huus\, ‘s-Heerenberg\, Willem van den Berghstraat 1\, ‘s-Heerenberg\, Gelderland\, 7041 CW\, Netherlands
ATTACH;FMTTYPE=image/jpeg:https://www.stadskamer.com/wp-content/uploads/2023/06/Stadskamer-s-Heerenberg-17.jpg
ORGANIZER;CN="Simone Pastoors":MAILTO:s.pastoors@stadskamer.com
END:VEVENT
END:VCALENDAR